BEGIN:VCALENDAR
VERSION:2.0
PRODID:-//Romanian American Carolina Alliance (RACA) - ECPv6.15.20//NONSGML v1.0//EN
CALSCALE:GREGORIAN
METHOD:PUBLISH
X-WR-CALNAME:Romanian American Carolina Alliance (RACA)
X-ORIGINAL-URL:https://www.rocarolina.org
X-WR-CALDESC:Events for Romanian American Carolina Alliance (RACA)
REFRESH-INTERVAL;VALUE=DURATION:PT1H
X-Robots-Tag:noindex
X-PUBLISHED-TTL:PT1H
BEGIN:VTIMEZONE
TZID:America/New_York
BEGIN:DAYLIGHT
TZOFFSETFROM:-0500
TZOFFSETTO:-0400
TZNAME:EDT
DTSTART:20250309T070000
END:DAYLIGHT
BEGIN:STANDARD
TZOFFSETFROM:-0400
TZOFFSETTO:-0500
TZNAME:EST
DTSTART:20251102T060000
END:STANDARD
BEGIN:DAYLIGHT
TZOFFSETFROM:-0500
TZOFFSETTO:-0400
TZNAME:EDT
DTSTART:20260308T070000
END:DAYLIGHT
BEGIN:STANDARD
TZOFFSETFROM:-0400
TZOFFSETTO:-0500
TZNAME:EST
DTSTART:20261101T060000
END:STANDARD
BEGIN:DAYLIGHT
TZOFFSETFROM:-0500
TZOFFSETTO:-0400
TZNAME:EDT
DTSTART:20270314T070000
END:DAYLIGHT
BEGIN:STANDARD
TZOFFSETFROM:-0400
TZOFFSETTO:-0500
TZNAME:EST
DTSTART:20271107T060000
END:STANDARD
END:VTIMEZONE
BEGIN:VEVENT
DTSTART;TZID=America/New_York:20260412T170000
DTEND;TZID=America/New_York:20260412T170000
DTSTAMP:20260421T213701
CREATED:20260412T123247Z
LAST-MODIFIED:20260412T130546Z
UID:659-1776013200-1776013200@www.rocarolina.org
SUMMARY:Resurrection Service
DESCRIPTION:We invite you to celebrate together the RESURRECTION of the Lord Jesus at Harmony Romanian Church on Sunday\, April 20\, at 5 PM. \n\n\n\n\n\n\n\n\n\n\n\n\n\n\n\n\nResurrection Service\n\n\n\nWe invite you to celebrate together the RESURRECTION of the Lord Jesus at Harmony Romanian Church on Sunday\, April 20\, at 5 PM.
URL:https://www.rocarolina.org/event/ressurection-service/
LOCATION:Ro Harmony Chruch\, 17301 Statesville Rd.\, Cornelius\, North Carolina\, 28031\, United States
ATTACH;FMTTYPE=image/jpeg:https://www.rocarolina.org/wp-content/uploads/2026/04/ro-harmony-Hristos-a-Inviat.jpg
END:VEVENT
BEGIN:VEVENT
DTSTART;TZID=America/New_York:20260412T130000
DTEND;TZID=America/New_York:20260412T170000
DTSTAMP:20260421T213702
CREATED:20260410T185344Z
LAST-MODIFIED:20260410T185409Z
UID:416-1775998800-1776013200@www.rocarolina.org
SUMMARY:Easter Luncheon and Egg Hunt
DESCRIPTION:Dragii noștri\, cu bucurie vă invităm Duminica\, după Slujba celei de-a doua Învieri\, în prima zi de Paște\, să sărbătorim împreună în comunitatea noastră. Vă așteptăm la masa de Paște\, alături de credincioși\, ca într-o mare familie.Ne pregătim cu activități speciale pentru copii: vânătoare de ouă\, bounce house\, îmbrățișări cu iepurașul și jocuri.Vă așteptăm cu drag\, să fim împreună în această sărbătoare sfântă! \n\n\n\nPr. Cristian Preda si Consiliul Doamnelor
URL:https://www.rocarolina.org/event/easter-luncheon-and-egg-hunt/
LOCATION:St John the Baptizer Romanian Orthodox Church\, 8238 Park Edwards Rd\,\, Kannapolis\, North Carolina\, 28081\, United States
ATTACH;FMTTYPE=image/jpeg:https://www.rocarolina.org/wp-content/uploads/2026/04/Veniti-de-Luati-Lumina-3-2026.jpg
ORGANIZER;CN="St John the Baptizer Romanian Orthodox Church":MAILTO:saintjohnthebaptizer@gmail.com
END:VEVENT
BEGIN:VEVENT
DTSTART;TZID=America/New_York:20260411T233000
DTEND;TZID=America/New_York:20260412T030000
DTSTAMP:20260421T213702
CREATED:20260410T182313Z
LAST-MODIFIED:20260410T183515Z
UID:393-1775950200-1775962800@www.rocarolina.org
SUMMARY:Come receive the Holy Light! The Light of Christ enlightens everyone!
DESCRIPTION:“Veniti de luati lumina !S-a auzit un glas biruitor in noapte.C-a inviat Iisus Hristos\, Mantuitorul lumiiSi ne-a adus prin jertfa Sa\, iertare de pacate. \n\n\n\nS-a sculat din morti Lumina\,Ca intunericul nu poate s-o cuprinda.A biruit scotand pe cei legati\, Iubirea.Ca din iubire\, a dus a crucii grea osanda. \n\n\n\nVeniti de luati cu toti\, lumina !Ce ne-a adus iertare\, pace si speranta.Si ne-a unit prin trup si sange cu Dumnezeirea\,Trezindu-ne din moartea pacatelor la viata. \n\n\n\nSpre dimineata\, zeci de luminite aprinseSe intorc cu veselie si pasi grabiti spre casa.A inviat Hristos\, a biruit aducand mantuirea\,Parfum de flori si triluri minunate in vazduh se inalta. “ \n\n\n\nVa invitam sa fiti alaturi de noi la Slujba de Inviere. \n\n\n\nPr. Cristian Predasi Consiliul Parohial
URL:https://www.rocarolina.org/event/come-receive-the-holy-light-the-light-of-christ-enlightens-everyone/
LOCATION:North Carolina
ATTACH;FMTTYPE=image/jpeg:https://www.rocarolina.org/wp-content/uploads/2026/04/Veniti-de-Luati-Lumina-2026.jpg
END:VEVENT
BEGIN:VEVENT
DTSTART;TZID=America/New_York:20260405T180000
DTEND;TZID=America/New_York:20260405T180000
DTSTAMP:20260421T213702
CREATED:20260404T125928Z
LAST-MODIFIED:20260412T130647Z
UID:668-1775412000-1775412000@www.rocarolina.org
SUMMARY:Resurrection Sunday
DESCRIPTION:Let’s celebrate the power of His Resurrection together!
URL:https://www.rocarolina.org/event/resurrection-sunday/
LOCATION:Ro Bethany Church\, 2036 SLATER RD\, Charlotte\, North Carolina\, 28216\, United States
ATTACH;FMTTYPE=image/jpeg:https://www.rocarolina.org/wp-content/uploads/2026/04/bethany-romanian-church-resurrection-service.jpg
END:VEVENT
END:VCALENDAR