BEGIN:VCALENDAR
VERSION:2.0
PRODID:-//Romanian American Carolina Alliance (RACA) - ECPv6.15.20//NONSGML v1.0//EN
CALSCALE:GREGORIAN
METHOD:PUBLISH
X-WR-CALNAME:Romanian American Carolina Alliance (RACA)
X-ORIGINAL-URL:https://www.rocarolina.org
X-WR-CALDESC:Events for Romanian American Carolina Alliance (RACA)
REFRESH-INTERVAL;VALUE=DURATION:PT1H
X-Robots-Tag:noindex
X-PUBLISHED-TTL:PT1H
BEGIN:VTIMEZONE
TZID:America/New_York
BEGIN:DAYLIGHT
TZOFFSETFROM:-0500
TZOFFSETTO:-0400
TZNAME:EDT
DTSTART:20250309T070000
END:DAYLIGHT
BEGIN:STANDARD
TZOFFSETFROM:-0400
TZOFFSETTO:-0500
TZNAME:EST
DTSTART:20251102T060000
END:STANDARD
BEGIN:DAYLIGHT
TZOFFSETFROM:-0500
TZOFFSETTO:-0400
TZNAME:EDT
DTSTART:20260308T070000
END:DAYLIGHT
BEGIN:STANDARD
TZOFFSETFROM:-0400
TZOFFSETTO:-0500
TZNAME:EST
DTSTART:20261101T060000
END:STANDARD
BEGIN:DAYLIGHT
TZOFFSETFROM:-0500
TZOFFSETTO:-0400
TZNAME:EDT
DTSTART:20270314T070000
END:DAYLIGHT
BEGIN:STANDARD
TZOFFSETFROM:-0400
TZOFFSETTO:-0500
TZNAME:EST
DTSTART:20271107T060000
END:STANDARD
END:VTIMEZONE
BEGIN:VEVENT
DTSTART;TZID=America/New_York:20260405T180000
DTEND;TZID=America/New_York:20260405T180000
DTSTAMP:20260421T200019
CREATED:20260404T125928Z
LAST-MODIFIED:20260412T130647Z
UID:668-1775412000-1775412000@www.rocarolina.org
SUMMARY:Resurrection Sunday
DESCRIPTION:Let’s celebrate the power of His Resurrection together!
URL:https://www.rocarolina.org/event/resurrection-sunday/
LOCATION:Ro Bethany Church\, 2036 SLATER RD\, Charlotte\, North Carolina\, 28216\, United States
ATTACH;FMTTYPE=image/jpeg:https://www.rocarolina.org/wp-content/uploads/2026/04/bethany-romanian-church-resurrection-service.jpg
END:VEVENT
END:VCALENDAR